BEGIN:VCALENDAR
VERSION:2.0
PRODID:-//MMA BEZ MASKY - novinky ze světa bojových sportů - ECPv6.15.13//NONSGML v1.0//EN
CALSCALE:GREGORIAN
METHOD:PUBLISH
X-ORIGINAL-URL:https://novinky.mma-bezmasky.cz
X-WR-CALDESC:Akce na MMA BEZ MASKY - novinky ze světa bojových sportů
REFRESH-INTERVAL;VALUE=DURATION:PT1H
X-Robots-Tag:noindex
X-PUBLISHED-TTL:PT1H
BEGIN:VTIMEZONE
TZID:UTC
BEGIN:STANDARD
TZOFFSETFROM:+0000
TZOFFSETTO:+0000
TZNAME:UTC
DTSTART:20230101T000000
END:STANDARD
END:VTIMEZONE
BEGIN:VEVENT
DTSTART;TZID=UTC:20241019T190000
DTEND;TZID=UTC:20241019T190000
DTSTAMP:20260423T101439
CREATED:20240818T210214Z
LAST-MODIFIED:20240818T210214Z
UID:5765-1729364400-1729364400@novinky.mma-bezmasky.cz
SUMMARY:RFA 18
DESCRIPTION:V Žiline uvidíte to najlepšie\, čo RFA ponúka! \nOrganizácia Real Fight Arena premiérovo putuje do Žiliny\, kde sa predstaví hneď niekoľko hviezd\, ktoré patria medzi TOP mená česko-slovenskej bojovej scény. Okrem Václava Siváka sa žilinské publikum môže tešiť na návrat Sebastiána Fapša či Gábora Borárosa. \nAsi márne by sme hľadali väčšiu česko-slovenskú postojársku hviezdu než Václav Sivák. „BadBoy“ medzi profesionálmi doposiaľ nespoznal premožiteľa a nič na tom neplánuje meniť ani tentokrát. Šampión RFA pod K1 pravidlami kosí jedného súpera za druhým a nič iné ako ďalšiu popravu svojho súpera si ani nepripúšťa. \nGábor Boráros má čo odčiňovať! Jedna z najznámejších tvárí domácej MMA scény naposledy úplne vyhorela a v súboji s Fredericom Komuenhom sa Boráros nechal ukončiť na konci 2. kola. Táto prehra prinútila Borárosa kompletne zmeniť prístup a podobné fiasko si po kondičnej stránke už nesmie dovoliť. \nNaopak\, na posledný zápas z Nových Zámkov má dobré spomienky Sebastián Fapšo. Považskobystrický Tank ukončil Filipa Roubíčka už v 1. kole a po brutálnom knokaute od Františka Puraša dokázal\, že oheň ani zďaleka nestratil. Tentokrát ho však uvidíme v jeho MMA premiére\, na ktorú sa už pripravuje dlhé mesiace. \nNemenej kvalitné súboje prinesie aj zvyšok karty\, na ktorej sa predstavia prední bojovníci Adam Jakubík\, Martin Prázdný\, Erik Tóth\, David Martiník či Marek Kvasnica. Nenechaj si ujsť adrenalínom nabitý zážitok a buď pri tom\, ako hviezdy domácej MMA scény dokážu\, že im tento štatút patrí oprávnene.
URL:https://novinky.mma-bezmasky.cz/event/rfa-18/
LOCATION:Zimný štadión Žilina\, Uhoľná 5\, 010 01 Žilina\, Žilina\, 010 01\, Slovensko
CATEGORIES:MMA
ATTACH;FMTTYPE=image/png:https://novinky.mma-bezmasky.cz/wp-content/uploads/2024/08/350x350_rfa_Ah3Y3LA.png
END:VEVENT
BEGIN:VEVENT
DTSTART;TZID=UTC:20240309T190000
DTEND;TZID=UTC:20240309T190000
DTSTAMP:20260423T101439
CREATED:20240206T145612Z
LAST-MODIFIED:20240206T150132Z
UID:5041-1710010800-1710010800@novinky.mma-bezmasky.cz
SUMMARY:RFA 15
DESCRIPTION:Športová hala Pasienky \n\nHviezdy bojovej scény opäť v akcii! Organizácia Real Fight Aréna sa znovu vracia do hlavného mesta Slovenska. Na RFA 15 sa 9. marca 2024 predstaví elita domácej i zahraničnej scény. \nŠampión EUROGOLD pyramídy Alexander Butenko poráža jedného súpera za druhým a stopku mu nedokázal vystaviť ani jeho posledný súper František Bočáň. Legendárny ukrajinský bojovník má aktuálne skóre 55-18-3\, čo z neho robí jednu z najväčších hviezd euróspkeho MMA. Kto ho dokáže zastaviť na ceste za právoplatným titulom RFA vo welterovej váhe? \nSebastián Fapšo mal zakončiť kalendárny rok 2023 vo veľkom štýle. Odveta legendárneho zápasu s Matějom Kozubovským sa ale musela odložiť\, keďže Fapšo bol nútený odstúpiť. Nahecovaný považskobystrický Tank je späť v príprave a odhodlaný vydlaždiť si cestu k šampiónovi Lutterbachovi. Aby sa však k nemu prepracoval\, musí na RFA 15 bezpodmienečne zvíťaziť. \nJeden z najlepších slovenských wrestlerov Jozef Jaloviar stál naposledy v klietke RFA v decembri 2022. Po výstavnej submisii za 35 sekúnd v Prievidzi sa o niečo podobné pokúsi aj na jeho domácej pôde v Bratislave. Reprezentant Octagon Fighting Academy v príprave nič nepodcenil a urobí všetko pre to\, aby sa pred vlastnými divákmi vrátil na víťaznú vlnu. \nFantastickým knokautom na RFA 12 sa zaskvela nádej slovenského MMA Dávid Šajben. Po výstavnom finishi Arnolda Nagya sa majster Slovenska v Muay Thai o niečo podobné pokúsi aj tentokrát. \nBudú napokon slovenskí bojovníci úspešní alebo si ich súperi pre nich pripravia nepríjemné prekvapenie? Nenechaj si ujsť skvelý zážitok a buď súčasťou RFA 15!
URL:https://novinky.mma-bezmasky.cz/event/rfa-15/
LOCATION:Hant Arena\, Športová Hala Pasienky\, Trnavská cesta 29\, Bratislava\, 831 04\, Slovensko
CATEGORIES:MMA
ATTACH;FMTTYPE=image/jpeg:https://novinky.mma-bezmasky.cz/wp-content/uploads/2024/02/thumb-rfa-15.jpg
END:VEVENT
END:VCALENDAR