BEGIN:VCALENDAR
VERSION:2.0
PRODID:-//MMA BEZ MASKY - novinky ze světa bojových sportů - ECPv6.15.13//NONSGML v1.0//EN
CALSCALE:GREGORIAN
METHOD:PUBLISH
X-WR-CALNAME:MMA BEZ MASKY - novinky ze světa bojových sportů
X-ORIGINAL-URL:https://novinky.mma-bezmasky.cz
X-WR-CALDESC:Akce na MMA BEZ MASKY - novinky ze světa bojových sportů
REFRESH-INTERVAL;VALUE=DURATION:PT1H
X-Robots-Tag:noindex
X-PUBLISHED-TTL:PT1H
BEGIN:VTIMEZONE
TZID:UTC
BEGIN:STANDARD
TZOFFSETFROM:+0000
TZOFFSETTO:+0000
TZNAME:UTC
DTSTART:20210101T000000
END:STANDARD
END:VTIMEZONE
BEGIN:VEVENT
DTSTART;TZID=UTC:20230609T180000
DTEND;TZID=UTC:20230609T233000
DTSTAMP:20260422T083934
CREATED:20230608T092044Z
LAST-MODIFIED:20230608T092045Z
UID:3378-1686333600-1686353400@novinky.mma-bezmasky.cz
SUMMARY:IAF 8 - Sokolov
DESCRIPTION:Kulturní dům Sokolov! Právě tam Vás čeká náš další event IAF 8! Titulová bitva o pás IAF ve weltrové divizi\, legenda české scény MMA Číňan Poborský\, nebo třeba Alex Cverna! Tohle vše a mnoho víc můžete zažít 9.6 v KD Sokolov! 
URL:https://novinky.mma-bezmasky.cz/event/iaf-8-sokolov/
LOCATION:Dům Kultury Sokolov\, 5. května 655\, Sokolov\, Česká republika
CATEGORIES:MMA
ATTACH;FMTTYPE=image/jpeg:https://novinky.mma-bezmasky.cz/wp-content/uploads/2023/06/event_8.jpg__1920x1080_q85_crop-0_subsampling-2.jpg
END:VEVENT
BEGIN:VEVENT
DTSTART;TZID=UTC:20220617T180000
DTEND;TZID=UTC:20220617T233000
DTSTAMP:20260422T083934
CREATED:20220518T155413Z
LAST-MODIFIED:20220518T203710Z
UID:1350-1655488800-1655508600@novinky.mma-bezmasky.cz
SUMMARY:IAF 5 - The king of Pilsen
DESCRIPTION:
URL:https://novinky.mma-bezmasky.cz/event/iaf-5-the-king-of-pilsen/
LOCATION:TJ Lokomotiva Plzeň\, ÚSLAVSKÁ 75\, 326 00 PLZEŇ\, Plzeň\, Česká republika
ATTACH;FMTTYPE=image/jpeg:https://novinky.mma-bezmasky.cz/wp-content/uploads/2022/05/1920x1080_1_kopie.jpg__1920x1080_q85_crop-0_subsampling-2.jpg
END:VEVENT
END:VCALENDAR