BEGIN:VCALENDAR
VERSION:2.0
PRODID:-//MMA BEZ MASKY - novinky ze světa bojových sportů - ECPv6.15.13//NONSGML v1.0//EN
CALSCALE:GREGORIAN
METHOD:PUBLISH
X-WR-CALNAME:MMA BEZ MASKY - novinky ze světa bojových sportů
X-ORIGINAL-URL:https://novinky.mma-bezmasky.cz
X-WR-CALDESC:Akce na MMA BEZ MASKY - novinky ze světa bojových sportů
REFRESH-INTERVAL;VALUE=DURATION:PT1H
X-Robots-Tag:noindex
X-PUBLISHED-TTL:PT1H
BEGIN:VTIMEZONE
TZID:UTC
BEGIN:STANDARD
TZOFFSETFROM:+0000
TZOFFSETTO:+0000
TZNAME:UTC
DTSTART:20230101T000000
END:STANDARD
END:VTIMEZONE
BEGIN:VEVENT
DTSTART;TZID=UTC:20241109T180000
DTEND;TZID=UTC:20241109T180000
DTSTAMP:20260419T191137
CREATED:20240818T165250Z
LAST-MODIFIED:20240818T204500Z
UID:5750-1731175200-1731175200@novinky.mma-bezmasky.cz
SUMMARY:Oktagon 63
DESCRIPTION:Pomsta: Vémola vs. Krištofič o titul poloťažkej váhy \nŠtadión Ondreja Nepelu – Tipos Aréna už hostil množstvo MMA zápasov\, ktoré sa zaradili medzi tie najlepšie v histórii OKTAGONu. 9. 11. 2024 tomu nebude inak… \nObaja sa vracajú do klietky. Šampión poloťažkej váhy a legenda Karlos Vémola sa vracia z dôchodku a Krištofič po reality šou Survivor. \nPo podpise trilógie Vémola vs. Végh chce „Terminátor“ doriešiť ešte jednu vec – odčiniť prehru s „Pirátom“\, ktorý ho v 1. zápase tvrdo knockoutoval\, načo Vémola povedal\, že by Krištofiča porazil z 10 zápasov 9-krát. Tento výrok sa Pirátovi samozrejme nepáčil\, vyzval Vémolu na odvetu a sľúbil\, že ho v zápase o opasok poloťažkej váhy zasadí ako cibuľku do zeme. \nDokonalú jesennú búrku plnú hromov a bleskov prináša aj zápas 2 strojov. #1 v strednej váhe a bývalý dočasný šampión Wawrzyniak s #3 rebríčku Mazúchom\, ktorého kladivá už zatĺkli do klietky Zawadu či Cordera. \nĎalšie zápasy budeme postupne predstavovať. \nTo najlepšie MMA a adrenalínová športová šou so všetkým\, čo k tomu patrí. 9. 11. OKTAGON 63 v Tipos aréne v Bratislave. \nVstupenky v predaji.
URL:https://novinky.mma-bezmasky.cz/event/oktagon-63/
LOCATION:TIPOS Aréna – Zimný štadión Ondreja Nepelu\, Odbojárov 9\, Bratislava\, Bratislavský\, 831 04\, Slovensko
CATEGORIES:MMA
ATTACH;FMTTYPE=image/webp:https://novinky.mma-bezmasky.cz/wp-content/uploads/2024/08/cs.webp
END:VEVENT
BEGIN:VEVENT
DTSTART;TZID=UTC:20241019T190000
DTEND;TZID=UTC:20241019T190000
DTSTAMP:20260419T191137
CREATED:20240818T210214Z
LAST-MODIFIED:20240818T210214Z
UID:5765-1729364400-1729364400@novinky.mma-bezmasky.cz
SUMMARY:RFA 18
DESCRIPTION:V Žiline uvidíte to najlepšie\, čo RFA ponúka! \nOrganizácia Real Fight Arena premiérovo putuje do Žiliny\, kde sa predstaví hneď niekoľko hviezd\, ktoré patria medzi TOP mená česko-slovenskej bojovej scény. Okrem Václava Siváka sa žilinské publikum môže tešiť na návrat Sebastiána Fapša či Gábora Borárosa. \nAsi márne by sme hľadali väčšiu česko-slovenskú postojársku hviezdu než Václav Sivák. „BadBoy“ medzi profesionálmi doposiaľ nespoznal premožiteľa a nič na tom neplánuje meniť ani tentokrát. Šampión RFA pod K1 pravidlami kosí jedného súpera za druhým a nič iné ako ďalšiu popravu svojho súpera si ani nepripúšťa. \nGábor Boráros má čo odčiňovať! Jedna z najznámejších tvárí domácej MMA scény naposledy úplne vyhorela a v súboji s Fredericom Komuenhom sa Boráros nechal ukončiť na konci 2. kola. Táto prehra prinútila Borárosa kompletne zmeniť prístup a podobné fiasko si po kondičnej stránke už nesmie dovoliť. \nNaopak\, na posledný zápas z Nových Zámkov má dobré spomienky Sebastián Fapšo. Považskobystrický Tank ukončil Filipa Roubíčka už v 1. kole a po brutálnom knokaute od Františka Puraša dokázal\, že oheň ani zďaleka nestratil. Tentokrát ho však uvidíme v jeho MMA premiére\, na ktorú sa už pripravuje dlhé mesiace. \nNemenej kvalitné súboje prinesie aj zvyšok karty\, na ktorej sa predstavia prední bojovníci Adam Jakubík\, Martin Prázdný\, Erik Tóth\, David Martiník či Marek Kvasnica. Nenechaj si ujsť adrenalínom nabitý zážitok a buď pri tom\, ako hviezdy domácej MMA scény dokážu\, že im tento štatút patrí oprávnene.
URL:https://novinky.mma-bezmasky.cz/event/rfa-18/
LOCATION:Zimný štadión Žilina\, Uhoľná 5\, 010 01 Žilina\, Žilina\, 010 01\, Slovensko
CATEGORIES:MMA
ATTACH;FMTTYPE=image/png:https://novinky.mma-bezmasky.cz/wp-content/uploads/2024/08/350x350_rfa_Ah3Y3LA.png
END:VEVENT
BEGIN:VEVENT
DTSTART;TZID=UTC:20241012T180000
DTEND;TZID=UTC:20241012T180000
DTSTAMP:20260419T191137
CREATED:20240818T164513Z
LAST-MODIFIED:20240818T164513Z
UID:5745-1728756000-1728756000@novinky.mma-bezmasky.cz
SUMMARY:OKTAGON 62: Eckerlin vs. Jungwirth
DESCRIPTION:Největší turnaj v historii OKTAGONu na fotbalovém stadionu ve Frankfurtu \nJeden z největších eventů v dějinách světového MMA! OKTAGON 62 na stadionu Deutsche Bank Park s kapacitou více jak 55 000 diváků. Turnaj\, který je větší něž kdy dřív a který překoná vše\, co jsme dosud pořádali. \nV hlavním městě OKTAGONu\, co se Německa týče\, jsme již 4x vyprodali frankfurtskou Festhalle\, odkud fanoušci odcházeli s husinou. Je čas posunout to na další level a zapsat se do dějin! \nBitva o krále Německa Eckerlin vs. Jungwirth. To je Frankfurt vs. Stuttgart a souboj 2 největších německých MMA hvězd současnosti mezi „Frankfurtským králem“ a nesmrtelným „Keltem“\, jejichž cesty celou dobu směřovaly právě k tomuto okamžiku. \n#1 proti #3 polotěžké váhy OKTAGONu a #87 proti #64 dle světových tabulek. Největší klaďas organizace a bývalý prozatímní šampion Pavol Langer se skalpy Xaviera a Poppecka přijal výzvu od suverénního Fleuryho\, jenž sekal hlavy v Bellatoru i PFL. \nSnový debut v organizaci zde zažije Max „Mad“ Coga\, šampion a double champ téměř všech německých organizací. Proti němu #6 bantamové divize a bývalý šampion KSW Antun Račić\, který má Cogovi co oplácet z jejich 1. vzájemného zápasu. \nNa místě činu nebude chybět ani 9 let neporažená nejlepší střední váha Německa a #2 žebříčku OKTAGONu Kerim Engizek\, jehož soupeře brzy oznámíme. \nTo a další elita OKTAGONu na jednom místě\, kterou budeme postupně představovat. Tohle bude All-Star. \nVelké bitvy\, nepopsatelná atmosféra a světová show\, kterou si ještě nezažil a odkud si odneseš zážitek na celý život! \nTvoř s námi dějiny a zažij 12. 10. 2024 OKTAGON 62. \nLístky právě v prodeji.
URL:https://novinky.mma-bezmasky.cz/event/oktagon-62-eckerlin-vs-jungwirth/
LOCATION:Deutsche Bank Park\, Mörfelder Landstraße 362\, Frankfurt am Main\, 60528\, Německo
CATEGORIES:MMA
ATTACH;FMTTYPE=image/jpeg:https://novinky.mma-bezmasky.cz/wp-content/uploads/2024/08/stiahnut-3.jpg
END:VEVENT
END:VCALENDAR