BEGIN:VCALENDAR
VERSION:2.0
PRODID:-//MMA BEZ MASKY - novinky ze světa bojových sportů - ECPv6.15.13//NONSGML v1.0//EN
CALSCALE:GREGORIAN
METHOD:PUBLISH
X-WR-CALNAME:MMA BEZ MASKY - novinky ze světa bojových sportů
X-ORIGINAL-URL:https://novinky.mma-bezmasky.cz
X-WR-CALDESC:Akce na MMA BEZ MASKY - novinky ze světa bojových sportů
REFRESH-INTERVAL;VALUE=DURATION:PT1H
X-Robots-Tag:noindex
X-PUBLISHED-TTL:PT1H
BEGIN:VTIMEZONE
TZID:UTC
BEGIN:STANDARD
TZOFFSETFROM:+0000
TZOFFSETTO:+0000
TZNAME:UTC
DTSTART:20220101T000000
END:STANDARD
END:VTIMEZONE
BEGIN:VEVENT
DTSTART;TZID=UTC:20231014T180000
DTEND;TZID=UTC:20231014T233000
DTSTAMP:20260420T133856
CREATED:20230911T085930Z
LAST-MODIFIED:20230911T090023Z
UID:3973-1697306400-1697326200@novinky.mma-bezmasky.cz
SUMMARY:KSW87
DESCRIPTION:KSW pokračuje ve své expanzi do České republiky\, KSW 87 se uskuteční 14. října ve Werk Aréně v Třinci. \n\n\nNa tomto turnaji uvidíme návrat Michala Martínka (10-4)\, špičku české těžké váhy\, který se v hlavním souboji večera utká s nebezpečným srbem Darkem Stošićem (18-6). \nV co-main eventu se Polák Roman Szymański (17-7) utká s populární českou mma hvězdou Leo Brichtou (11-3)\, který zažil skvělý debut na KSW Colosseum 2 letos v létě. \nNa nabité kartě nás čeká také vzrušující souboj bantamové váhy mezi domácím Filipem Mackem (27-18-1) a Ukrajincem Oleksii Polischuckem (10-4). \n„Jsem opravdu nadšený\, že se opět brzy vrátíme do České republiky\,“ řekl Martin Lewandowski\, CEO organizace KSW. „Náš první event v Liberci byl opravdu zábavnou akcí\, kde se čeští a polští fanoušci sešli\, aby vytvořili elektrizující atmosféru\, a totéž očekáváme v říjnu v Třinci.“
URL:https://novinky.mma-bezmasky.cz/event/ksw87/
LOCATION:Werk Arena\, Frýdecká 850\, Třinec\, Česká republika
CATEGORIES:MMA
ATTACH;FMTTYPE=image/jpeg:https://novinky.mma-bezmasky.cz/wp-content/uploads/2023/09/KSW87_1080x1080-1024x1024-1.jpg
END:VEVENT
END:VCALENDAR