BEGIN:VCALENDAR
VERSION:2.0
PRODID:-//MMA BEZ MASKY - novinky ze světa bojových sportů - ECPv6.15.13//NONSGML v1.0//EN
CALSCALE:GREGORIAN
METHOD:PUBLISH
X-WR-CALNAME:MMA BEZ MASKY - novinky ze světa bojových sportů
X-ORIGINAL-URL:https://novinky.mma-bezmasky.cz
X-WR-CALDESC:Akce na MMA BEZ MASKY - novinky ze světa bojových sportů
REFRESH-INTERVAL;VALUE=DURATION:PT1H
X-Robots-Tag:noindex
X-PUBLISHED-TTL:PT1H
BEGIN:VTIMEZONE
TZID:UTC
BEGIN:STANDARD
TZOFFSETFROM:+0000
TZOFFSETTO:+0000
TZNAME:UTC
DTSTART:20210101T000000
END:STANDARD
END:VTIMEZONE
BEGIN:VEVENT
DTSTART;TZID=UTC:20240217T190000
DTEND;TZID=UTC:20240217T190000
DTSTAMP:20260422T084052
CREATED:20240206T142902Z
LAST-MODIFIED:20240206T213856Z
UID:5026-1708196400-1708196400@novinky.mma-bezmasky.cz
SUMMARY:KSW 91 v Liberci
DESCRIPTION:Jedna z najväčších organizácii v európskom MMA a to konkrétne KSW sa 17. februára 2024 vráti do Home Credit Areny v Liberci. Po dvoch strhujúcich galavečeroch v roku 2023 to bude už tretí turnaj KSW v Českej republike. \nV hlavnom zápase sa o dočasný titul v ľahkej váhe pobije domáci bojovník Leo Brichta ( 12-3)\, ten po parádnom výkone v Colloseu sa opäť predviedol a v poslednom zápase ukončil Szymanskeho. Pokračovať vo svojich výkonoch a získať titul bude chcieť proti Moldavskému bojovníkovi a dvojke rebríčka KSW Valerimu Mirceovi ( 29-8.) \nDomáci zástupca Dominik Humburger (7-1) sa bude chcieť vrátiť späť na víťaznú vlnu proti Albertovi Odzimkowskemu (14-7). \nMatúša Juráčeka (10-3) po prestupe z Oktagonu čaká premiéra v KSW proti bojovníkovi z Nigérie a 10. rebríčka welterovej váhy Henrymu Fadipeovi (14-11) \nViktor Červinský(4-0) po úspešnom minulom roku\, ktorý zavŕšil ziskom titulu sa na svoje výkony bude snažiť nadviazať proti Kacperovi Koziorzebskovi (9-6). \nÚspešný Český boxer Vasil Ducár (3-2) sa vracia po 5 rokoch do mma kde sa predstaví proti Dawidovi Kasperskemu (0-0). \nJosef Štummer (3-1) a ďalší domáci zástupca\, ide do svojho 3. zápasu v mma\, kde mu bude súperom Adrian Wieliczko (2-1) \nDavid Hošek (10-5) zabojuje o svojej pokračovanie v KSW proti Adrianovi Dudekovi (7-2) \nPetra Častková (6-6) sa bude snažiť na 3. pokus získať svoje premiérové víťazstvo v KSW proti Wiktorii Czyzewskej (2-1). \n  \n  \n 
URL:https://novinky.mma-bezmasky.cz/event/ksw-91-v-liberci/
LOCATION:Home Credit Arena\, JERONÝMOVA 570/22\, Liberec\, Česká republika
CATEGORIES:MMA
ATTACH;FMTTYPE=image/webp:https://novinky.mma-bezmasky.cz/wp-content/uploads/2024/02/1705695030-ksw91-www.webp
END:VEVENT
BEGIN:VEVENT
DTSTART;TZID=UTC:20231014T180000
DTEND;TZID=UTC:20231014T233000
DTSTAMP:20260422T084052
CREATED:20230911T085930Z
LAST-MODIFIED:20230911T090023Z
UID:3973-1697306400-1697326200@novinky.mma-bezmasky.cz
SUMMARY:KSW87
DESCRIPTION:KSW pokračuje ve své expanzi do České republiky\, KSW 87 se uskuteční 14. října ve Werk Aréně v Třinci. \n\n\nNa tomto turnaji uvidíme návrat Michala Martínka (10-4)\, špičku české těžké váhy\, který se v hlavním souboji večera utká s nebezpečným srbem Darkem Stošićem (18-6). \nV co-main eventu se Polák Roman Szymański (17-7) utká s populární českou mma hvězdou Leo Brichtou (11-3)\, který zažil skvělý debut na KSW Colosseum 2 letos v létě. \nNa nabité kartě nás čeká také vzrušující souboj bantamové váhy mezi domácím Filipem Mackem (27-18-1) a Ukrajincem Oleksii Polischuckem (10-4). \n„Jsem opravdu nadšený\, že se opět brzy vrátíme do České republiky\,“ řekl Martin Lewandowski\, CEO organizace KSW. „Náš první event v Liberci byl opravdu zábavnou akcí\, kde se čeští a polští fanoušci sešli\, aby vytvořili elektrizující atmosféru\, a totéž očekáváme v říjnu v Třinci.“
URL:https://novinky.mma-bezmasky.cz/event/ksw87/
LOCATION:Werk Arena\, Frýdecká 850\, Třinec\, Česká republika
CATEGORIES:MMA
ATTACH;FMTTYPE=image/jpeg:https://novinky.mma-bezmasky.cz/wp-content/uploads/2023/09/KSW87_1080x1080-1024x1024-1.jpg
END:VEVENT
BEGIN:VEVENT
DTSTART;TZID=UTC:20220723T180000
DTEND;TZID=UTC:20220723T180000
DTSTAMP:20260422T084052
CREATED:20220524T084426Z
LAST-MODIFIED:20220621T123742Z
UID:1455-1658599200-1658599200@novinky.mma-bezmasky.cz
SUMMARY:RFA 3
DESCRIPTION:  \n  \nBojové sporty zažívají zlaté časy na území Slovenska a České republiky. \nPřijďte se přesvědčit sami.\n\nTřetí akce RFA se uskuteční 23.7.22 v Ostravě\, městě\, které patří k největším sportovním nadšencům domácí scény. Předposlední červencovou sobotu tak budou mít šanci jasně předvést svou vášeň pro bojové sporty.\nDůvodů pro vytvoření elektrizující atmosféry na zimním stadionu Poruba však bude několik. Do klece vstoupí mistři světa nebo Evropy\, kterí sbírali obrovské zkušenosti v nejtěžších zápasech po celém světě. Můžeme tedy očekávat srovnání domácích „es“ se zahraničními a samozřejmě i tradiční československe derby. \nModerní fenomén MMA nebo REAL FIGHT jistě nenechá chladným jediného fanouška bojových sportů. Informace o kompletném zoznamu plném elitních zápasníků již brzy na našich sociálních sítích. \nNenechte si tedy ujít tuto akci a připravte se na nezapomenutelný zážitek! Těšíme se na vás. \nŽivé přenosy můžete sledovat výhradně na realsport.tv \nLístky: \nticketportal.cz
URL:https://novinky.mma-bezmasky.cz/event/rfa-3/
LOCATION:RT TORAX Aréna\, Čkalovova 20\, 708 00 Ostrava-Poruba\, Ostrava\, Česká republika
ATTACH;FMTTYPE=image/jpeg:https://novinky.mma-bezmasky.cz/wp-content/uploads/2022/05/1655814810004.jpg
END:VEVENT
END:VCALENDAR