BEGIN:VCALENDAR
VERSION:2.0
PRODID:-//MMA BEZ MASKY - novinky ze světa bojových sportů - ECPv6.15.13//NONSGML v1.0//EN
CALSCALE:GREGORIAN
METHOD:PUBLISH
X-ORIGINAL-URL:https://novinky.mma-bezmasky.cz
X-WR-CALDESC:Akce na MMA BEZ MASKY - novinky ze světa bojových sportů
REFRESH-INTERVAL;VALUE=DURATION:PT1H
X-Robots-Tag:noindex
X-PUBLISHED-TTL:PT1H
BEGIN:VTIMEZONE
TZID:UTC
BEGIN:STANDARD
TZOFFSETFROM:+0000
TZOFFSETTO:+0000
TZNAME:UTC
DTSTART:20230101T000000
END:STANDARD
END:VTIMEZONE
BEGIN:VEVENT
DTSTART;TZID=UTC:20240419T180000
DTEND;TZID=UTC:20240419T180000
DTSTAMP:20260422T084113
CREATED:20240409T152148Z
LAST-MODIFIED:20240409T152352Z
UID:5510-1713549600-1713549600@novinky.mma-bezmasky.cz
SUMMARY:The Ring 11 v Olomouci
DESCRIPTION:Chtěli jste OLOMOUC?  Máte jí mít! UPOL ARÉNA  zažije JIŽ DRUHÉ ZEMĚTŘESENÍ!  Minulý rok na tomto místěproběhl THE RING 6 s NEZAPOMENUTELNÝM titulovým zápasem POLAKOVIČ vs. MERCADO!  PAMATUJEŠ? TO VY jste tvořili tu NEJLEPŠÍ ATMOSFÉRU\, a od prvního zápasu jste jí STUPŇOVALI ve velkém STYLU!  NYNÍ 19.4. tomu nebude JINAK!Jdeme to společně posunout zase O LEVEL VÝŠ! \nHned na úvod musíme vystřelit jméno PATRIK BALÁŽ!  Hezounek a domácí miláček..Minulý týden předvedl 10 KOLOVOU ŘEŽBU s tvrďákem GANOŠKOU!  Na body jsme se dočkali REMÍZY a pás šampiona se nikam stěhovat nemusel.. \nDalší\, kdo se staví do řady je Tomáš ŠÁLEK!  Velikán s dobrým srdcem se PRÁVĚ TADY na tomto místě\, vracel zpět na bojovou scénu!  Urval si veledůležitý comeback a od té doby nasbíral tři zlaté skalpy v řadě! \nSlovenský ULTRATALENT TANKÓ!V Brně ukázal českým fanouškům\, jaké tempo udává v zápase\, a jaké rakety má ve svých pažích!  Navíc\, se svou pokorou a respektem udělal dojem na nejednoho sportovního fanouška! TEĎ NOVĚ bude muset přepnout z role OTCE na NEPORAŽENOU MAŠINU! \nZSOLT OSAĎAN Na své půdě získal další zářez v kariéře a tím pádem se blíží k oslavě kulatin v podobě výher -30! NIC mu momentálně nestojí v cestě na to\, aby si pro tento milník došel co nejdřív! \n“TOHLE JSEM POTŘEBOVAL\, JSEM ZPĚT!”  Milan básnil po úspěšném zápase na domácí půdě!  Nevidí jediný důvod\, proč se nepředvést v dalším střetu jen kousek od svého bydliště! \nV NEPOSLEDNÍ řadě vyzdvihujeme známé jméno BEZVODA!Tvrdé granáty\, chodící zkušenosti a mnoho úspěchů!  Tomáš nám minulý týden ukázal ostrý remízový duel s mladíkem Makovcem! 👦🏻 Od první sekundy bavili celé BOBY\, jenže? NEROZHODNĚ. \nBUĎ ve STŘEHU!Za chvíli střílíme další jména\, tvrdé bitky a veškeré info JEN TADY na našem profilu! 🥊 \nPRODEJ VSTUPENEK UŽ TEĎ OD 250Kč NA PATRONBOXING.CZ
URL:https://novinky.mma-bezmasky.cz/event/the-ring-11-v-olomouci/
LOCATION:Sportovní Hala Úpol Olomouc\, U Sportovní haly 38/2\, Olomouc\, Česká republika
CATEGORIES:Box
ATTACH;FMTTYPE=image/jpeg:https://novinky.mma-bezmasky.cz/wp-content/uploads/2024/04/maxres.jpeg
END:VEVENT
END:VCALENDAR