BEGIN:VCALENDAR
VERSION:2.0
PRODID:-//MMA BEZ MASKY - novinky ze světa bojových sportů - ECPv6.15.13//NONSGML v1.0//EN
CALSCALE:GREGORIAN
METHOD:PUBLISH
X-WR-CALNAME:MMA BEZ MASKY - novinky ze světa bojových sportů
X-ORIGINAL-URL:https://novinky.mma-bezmasky.cz
X-WR-CALDESC:Akce na MMA BEZ MASKY - novinky ze světa bojových sportů
REFRESH-INTERVAL;VALUE=DURATION:PT1H
X-Robots-Tag:noindex
X-PUBLISHED-TTL:PT1H
BEGIN:VTIMEZONE
TZID:UTC
BEGIN:STANDARD
TZOFFSETFROM:+0000
TZOFFSETTO:+0000
TZNAME:UTC
DTSTART:20220101T000000
END:STANDARD
END:VTIMEZONE
BEGIN:VEVENT
DTSTART;TZID=UTC:20230415T180000
DTEND;TZID=UTC:20230415T233000
DTSTAMP:20260420T134229
CREATED:20230110T150915Z
LAST-MODIFIED:20230323T113344Z
UID:2316-1681581600-1681601400@novinky.mma-bezmasky.cz
SUMMARY:Oktagon 41 Liberec
DESCRIPTION:OKTAGON poprvé v Liberci: Bitva pod Ještědem \n15. 4. 2023 dojde k historicky prvnímu turnaji OKTAGONu na severu Čech v Liberci v Home Credit Areně\, kde bude svůj trůn hájit „Král severu“ Jan Malach. Fanouškům\, kteří na tento turnaj na čekali roky\, se představí špička domácí MMA scény včetně „Melouna“ Petráška. Zažijete i velký návrat knockoutera Robina Fošuma\, který se v kleci ukáže po 2 letech. \nEmotivní příběhy\, radost\, zklamání a výkony\, které budí úžas – to vše přinášejí adrenalinové souboje moderních gladiátorů OKTAGONu\, z nichž chce každý urvat vítězství a zvednout ruku nad hlavu. \nNejlepší sportovní show\, která na severu dosud nebyla! OKTAGON MMA s tisícovkami fanoušků poprvé otřese Home Credit Arenou v Liberci. Buď při tom. Lístky právě v prodeji na Ticketportal.
URL:https://novinky.mma-bezmasky.cz/event/oktagon-41-liberec/
LOCATION:Home Credit Arena\, JERONÝMOVA 570/22\, Liberec\, Česká republika
CATEGORIES:MMA
ATTACH;FMTTYPE=image/png:https://novinky.mma-bezmasky.cz/wp-content/uploads/2023/01/oktagonmma.cz-oktagon-41-liberec-okt41-bannery-kv2-1920x800-1-1024x427-1.png
END:VEVENT
END:VCALENDAR