BEGIN:VCALENDAR
VERSION:2.0
PRODID:-//MMA BEZ MASKY - novinky ze světa bojových sportů - ECPv6.15.13//NONSGML v1.0//EN
CALSCALE:GREGORIAN
METHOD:PUBLISH
X-ORIGINAL-URL:https://novinky.mma-bezmasky.cz
X-WR-CALDESC:Akce na MMA BEZ MASKY - novinky ze světa bojových sportů
REFRESH-INTERVAL;VALUE=DURATION:PT1H
X-Robots-Tag:noindex
X-PUBLISHED-TTL:PT1H
BEGIN:VTIMEZONE
TZID:UTC
BEGIN:STANDARD
TZOFFSETFROM:+0000
TZOFFSETTO:+0000
TZNAME:UTC
DTSTART:20210101T000000
END:STANDARD
END:VTIMEZONE
BEGIN:VEVENT
DTSTART;TZID=UTC:20230429T180000
DTEND;TZID=UTC:20230429T233000
DTSTAMP:20260423T114800
CREATED:20230110T151705Z
LAST-MODIFIED:20230323T113307Z
UID:2321-1682791200-1682811000@novinky.mma-bezmasky.cz
SUMMARY:Oktagon 42 Bratislava
DESCRIPTION:OKTAGON sa vracia do Bratislavy: Návrat Barboríka a Čepa na legendárny štadión Ondreja Nepelu! \nČakanie je na konci! OKTAGON mieri späť do Bratislavy a bude to opäť nezabudnuteľné. V klietke sa znova predstavia najväčšie mená slovenskej MMA scény na čele s Vojtom Barboríkom a Vlastom Čepom. \nVeľký comeback pre Vojta Barboríka\, ktorý na štadióne Ondreja Nepelu v Bratsialve predviedol s Buchingerom jeden z najlepších zápasov histórie OKTAGON MMA. \nA nebude chýbať ani ďalšia slovenská MMA elita. Znovuzrodený Robo Pukač\, vypínač súperov Čepo\, obľúbený Fodor\, šampión OKTAGON výzvy Paulus či bývalý slovenský vojak Mazúch\, ktorý chce odčiniť prvú prehru kariéry z posledného zápasu. \nNabitá športová show so všetkým\, čo k tomu patrí. Prídite a pridajte sa k tým najlepším fanúšikom na scéne 29.4.2023. \nLístky práve v predaji na Ticketportal.sk
URL:https://novinky.mma-bezmasky.cz/event/oktagon-42-bratislava/
LOCATION:Nepela Arena\, Odbojárov 9\, Bratislava\, Slovensko
CATEGORIES:MMA
ATTACH;FMTTYPE=image/png:https://novinky.mma-bezmasky.cz/wp-content/uploads/2023/01/oktagonmma.cz-oktagon-42-bratislava-okt42-bannery-ps-1920x800-1-1024x427-1.png
END:VEVENT
BEGIN:VEVENT
DTSTART;TZID=UTC:20230225T190000
DTEND;TZID=UTC:20230225T233000
DTSTAMP:20260423T114800
CREATED:20230110T153308Z
LAST-MODIFIED:20230110T153344Z
UID:2335-1677351600-1677367800@novinky.mma-bezmasky.cz
SUMMARY:Fabriq MMA 2
DESCRIPTION:Organizácia FABRIQ MMA po fantastickom turnaji prichádza do Nitry! V klietke Barborík či Fodor \nScéna MMA sa otriasla po príchode novej organizácie FABRIQ MMA\, ktorá podľa mnohých odborníkov i fanúšikov zorganizovala mimoriadne podarenú akciu v Trnave\, ktorá v mnohých smeroch spĺňala všetky kritériá kvality! \nRiaditeľ organizácie Attila Végh spoločne s Rytmusom tentoraz zamieria do rodiska mnohých legiend tohto športu\, ktorým je Nitra. Fanúšikovia sa môžu tešiť na súboje Vojta Barboríka\, Františka Fodora\, Romana Paulusa\,Branislava Zuzáka\, Tomáša Cigánika či Denisa Gondžalu. \nAni tentoraz nebude chýbať mix zápasov najkvalitnejších amatérov a slávnych mien OKTAGON-u. Do klietky sa vracia domáci „rozdávač pokút“ Vojto Barborík\, ktorý kvôli zraneniu nezápasil od augusta 2022: „Teším sa na to\, kedy sa vrátim do klietky! Počítajte s tým\, že sa čoskoro zamiešam do boja o titul OKTAGON-u a tento zápas to potvrdí\,“ konštatoval Vojto. \nRodák z Nitry sa už teraz rozhodne nevie dočkať horúceho tábora fanúšikov\, ktorí znova dokážu\, že v Nitre to na tribúnach skutočne žije! \nNitra sa znova stáva stredobodom záujmu bojového sveta už 25.2.2022 a TY pritom nesmieš chýbať!
URL:https://novinky.mma-bezmasky.cz/event/fabriq-mma-2/
LOCATION:Mestská sportová hala Trnava\, Rybníková 576/15\, Trnava\, Slovensko
ATTACH;FMTTYPE=image/jpeg:https://novinky.mma-bezmasky.cz/wp-content/uploads/2023/01/orig_FABRIQ_MMA_2_2022122381253.jpg
END:VEVENT
BEGIN:VEVENT
DTSTART;TZID=UTC:20220723T180000
DTEND;TZID=UTC:20220723T180000
DTSTAMP:20260423T114800
CREATED:20220522T204747Z
LAST-MODIFIED:20220707T164851Z
UID:1439-1658599200-1658599200@novinky.mma-bezmasky.cz
SUMMARY:Oktagon MMA OKTAGON 34: ŠTVANICE
DESCRIPTION:Nejkrásnější turnaj roku: OKTAGON 34 na pražské Štvanci pod otevřeným nebem\nTribuny ikonické Štvanice opět ožijí! To\, co je všemi označováno za nejkrásnější turnaj roku s dechberoucí letní atmosférou\, se\n\n blíží. 23. 7. OKATGON 34. Buď tam!\nPředposlední červencovou sobotu se připrav na letní drinky\, euforické adrenalinové prostředí nabité emocemi\, a především na to nejatraktivnější\, co domácí MMA scéna nabízí! \nVítězství i pády\, touha bojovníků dostat ze sebe to nejlepší a jít až za hranice svých možností\, vzájemný respekt a uznání a bavící se fanoušci. \nTo vše za doprovodu té nejlepší audiovizuální a světelné show\, která podtrhne celý večer\, abys sis odnesl jeden z nejlepších letních zážitků. \nTurnaj\, na který se všichni sportovní fanoušci a milovníci MMA těší celý rok a bez něhož by léto nebylo kompletní. OKTAGON 34 na pražské Štvanici. Lístky právě v prodeji. \n  \nKarlos Terminator Vemola vs Aleksander Joker Ilič
URL:https://novinky.mma-bezmasky.cz/event/oktagon-mma-oktagon-34-stvanice/
ATTACH;FMTTYPE=image/jpeg:https://novinky.mma-bezmasky.cz/wp-content/uploads/2022/05/oktagonmma.cz-okt34-okttv-1920x800-1-1024x427-1.jpg
END:VEVENT
END:VCALENDAR