BEGIN:VCALENDAR
VERSION:2.0
PRODID:-//MMA BEZ MASKY - novinky ze světa bojových sportů - ECPv6.15.13//NONSGML v1.0//EN
CALSCALE:GREGORIAN
METHOD:PUBLISH
X-ORIGINAL-URL:https://novinky.mma-bezmasky.cz
X-WR-CALDESC:Akce na MMA BEZ MASKY - novinky ze světa bojových sportů
REFRESH-INTERVAL;VALUE=DURATION:PT1H
X-Robots-Tag:noindex
X-PUBLISHED-TTL:PT1H
BEGIN:VTIMEZONE
TZID:UTC
BEGIN:STANDARD
TZOFFSETFROM:+0000
TZOFFSETTO:+0000
TZNAME:UTC
DTSTART:20210101T000000
END:STANDARD
END:VTIMEZONE
BEGIN:VEVENT
DTSTART;TZID=UTC:20220624T180000
DTEND;TZID=UTC:20220624T233000
DTSTAMP:20260420T151348
CREATED:20220518T161035Z
LAST-MODIFIED:20220518T204611Z
UID:1364-1656093600-1656113400@novinky.mma-bezmasky.cz
SUMMARY:TFN 9
DESCRIPTION:Titan Fight Night 9 \nTitan Fight Night 9 \nPořádně atraktivní turnaj\, na kterém se představí Marco Novák\, Šimkulič\, Zajac\, Cigánik\, Kvasnica\, Medovarski\, Kurina\, Topčič\, Tavel či Bertovič\, přinese nabitý bojový večer\, kde se adrenalin bude dát krájet. Zápasy budou pod pravidly MMA\, Boxu i K1. Kupuj PPV a sleduj přímý přenos. \nV akci uvidíte skutečného šampiona – držitele domácích i mezinárodních titulů včetně evropského WMC a titulu šampiona WKU Marco Nováka. \nTvrdý thaiboxer z Hanuman Gym Bratislava Andrej Šimkulič známý z OKTAGONU Underground má náramně rád bleskové přestřelky. A přesně na ně se můžete v jeho podání na tomto turnaji těšit. \nDo boje se chystá i Tomáš Zajac\, který se probojoval až do finálového zápasu OKTAGON Výzvy 5\, kde na body podlehl Romanu Paulusovi. \nAdrenalinový zápas se očekává od dvojnásobného šampiona KSL a šampiona irské organizace Clan Wars Tomáše Cigánika. \nA znovu povstane také nezkrotná „Srbská bestie“ Marek Medovarski\, šampion MAMMALu 2018/2019 a čtyřnásobný mistr Srbska v K1. \nTo a mnoho dalších kvalitních zápasů sleduj exkluzivně ŽIVĚ pouze na OKTAGON.TV
URL:https://novinky.mma-bezmasky.cz/event/tfn-9/
LOCATION:Edison Park\, Prievozská 3987/18\, 821 09 Bratislava\, Bratislava\, Slovensko
ATTACH;FMTTYPE=image/jpeg:https://novinky.mma-bezmasky.cz/wp-content/uploads/2022/05/280370386_5358029637561264_5648296505341891145_n.jpg
END:VEVENT
END:VCALENDAR