BEGIN:VCALENDAR
VERSION:2.0
PRODID:-//MMA BEZ MASKY - novinky ze světa bojových sportů - ECPv6.15.13//NONSGML v1.0//EN
CALSCALE:GREGORIAN
METHOD:PUBLISH
X-WR-CALNAME:MMA BEZ MASKY - novinky ze světa bojových sportů
X-ORIGINAL-URL:https://novinky.mma-bezmasky.cz
X-WR-CALDESC:Akce na MMA BEZ MASKY - novinky ze světa bojových sportů
REFRESH-INTERVAL;VALUE=DURATION:PT1H
X-Robots-Tag:noindex
X-PUBLISHED-TTL:PT1H
BEGIN:VTIMEZONE
TZID:Asia/Karachi
BEGIN:STANDARD
TZOFFSETFROM:+0500
TZOFFSETTO:+0500
TZNAME:PKT
DTSTART:20210101T000000
END:STANDARD
END:VTIMEZONE
BEGIN:VEVENT
DTSTART;TZID=Asia/Karachi:20220715T180000
DTEND;TZID=Asia/Karachi:20220715T180000
DTSTAMP:20260421T234434
CREATED:20220621T131433Z
LAST-MODIFIED:20220718T162756Z
UID:1777-1657908000-1657908000@novinky.mma-bezmasky.cz
SUMMARY:RCC Fair Fight 18
DESCRIPTION:RCC Fair Fight otevírá novou mistrovskou divizi. \nV rámci tohoto turnaje se\nbude\, mimo jíné\, bojovat o uvolněný pás v rámci 4 člené pyramidy ve váze do 65 Kg. \nDo této pyramidy se svými výsledky nominovali\nKamran Nabati (11-0) z Machačkal\nKirill Chomutov (2-0) z Kemerova\,\nTamerlan Bashirov (12-2) \na český bojovník\nVáclav Sivák (19-0) \nVšichni čtyři se za poslední dva roky prosadili a zaslouženě dostali šanci zapsat se do historie RCC \nDoplnění: Václav Sivák se nakonec tohoto turnaje nemohl zúčastnit a organizátoři našli za něj náhradu. \n  \n 
URL:https://novinky.mma-bezmasky.cz/event/rcc-fair-fight-18/
LOCATION:Akademiya Yedinoborstv Rmk\, Ulitsa Sheynkmana\, 121А\, Yekaterinburg\, Sverdlovsk Oblast\, Rusko\, 620144
ATTACH;FMTTYPE=image/jpeg:https://novinky.mma-bezmasky.cz/wp-content/uploads/2022/06/1655816446923.jpg
END:VEVENT
END:VCALENDAR