BEGIN:VCALENDAR
VERSION:2.0
PRODID:-//MMA BEZ MASKY - novinky ze světa bojových sportů - ECPv6.15.13//NONSGML v1.0//EN
CALSCALE:GREGORIAN
METHOD:PUBLISH
X-ORIGINAL-URL:https://novinky.mma-bezmasky.cz
X-WR-CALDESC:Akce na MMA BEZ MASKY - novinky ze světa bojových sportů
REFRESH-INTERVAL;VALUE=DURATION:PT1H
X-Robots-Tag:noindex
X-PUBLISHED-TTL:PT1H
BEGIN:VTIMEZONE
TZID:UTC
BEGIN:STANDARD
TZOFFSETFROM:+0000
TZOFFSETTO:+0000
TZNAME:UTC
DTSTART:20210101T000000
END:STANDARD
END:VTIMEZONE
BEGIN:VEVENT
DTSTART;TZID=UTC:20221008T080000
DTEND;TZID=UTC:20221008T180000
DTSTAMP:20260422T084113
CREATED:20221004T091852Z
LAST-MODIFIED:20221004T091852Z
UID:2177-1665216000-1665252000@novinky.mma-bezmasky.cz
SUMMARY:Way of Warrior 9 – New Blood
DESCRIPTION:Spanilá jízda galavečerů Way of Warrior\, po deváté a tentokrát za hranicemi. Žilina se otřese! MMA \, K1\, a profi pyramida o pás šampióna.
URL:https://novinky.mma-bezmasky.cz/event/way-of-warrior-9-new-blood/
LOCATION:Sportová hala Rosinská cesta\, Rosinská 3815\, Žilina\, Slovensko
ATTACH;FMTTYPE=image/png:https://novinky.mma-bezmasky.cz/wp-content/uploads/2022/10/snw6a2ocj8_560x560_1x.png
END:VEVENT
BEGIN:VEVENT
DTSTART;TZID=UTC:20220930T180000
DTEND;TZID=UTC:20220930T180000
DTSTAMP:20260422T084113
CREATED:20220908T080244Z
LAST-MODIFIED:20220908T082001Z
UID:2028-1664560800-1664560800@novinky.mma-bezmasky.cz
SUMMARY:Plzeňský Ring
DESCRIPTION:Galavečer v profesialním boxu Plzeňský Ring\, který pořádá promotér Patron Boxing s.r.o \nObhajoba českého titulu ČUBP\,
URL:https://novinky.mma-bezmasky.cz/event/plzensky-ring/
LOCATION:TJ Lokomotiva Plzeň\, ÚSLAVSKÁ 75\, 326 00 PLZEŇ\, Plzeň\, Česká republika
ATTACH;FMTTYPE=image/jpeg:https://novinky.mma-bezmasky.cz/wp-content/uploads/2022/09/289641077_181554894233345_4646351681610994440_n.jpg
END:VEVENT
END:VCALENDAR