BEGIN:VCALENDAR
VERSION:2.0
PRODID:-//MMA BEZ MASKY - novinky ze světa bojových sportů - ECPv6.15.13//NONSGML v1.0//EN
CALSCALE:GREGORIAN
METHOD:PUBLISH
X-WR-CALNAME:MMA BEZ MASKY - novinky ze světa bojových sportů
X-ORIGINAL-URL:https://novinky.mma-bezmasky.cz
X-WR-CALDESC:Akce na MMA BEZ MASKY - novinky ze světa bojových sportů
REFRESH-INTERVAL;VALUE=DURATION:PT1H
X-Robots-Tag:noindex
X-PUBLISHED-TTL:PT1H
BEGIN:VTIMEZONE
TZID:UTC
BEGIN:STANDARD
TZOFFSETFROM:+0000
TZOFFSETTO:+0000
TZNAME:UTC
DTSTART:20210101T000000
END:STANDARD
END:VTIMEZONE
BEGIN:VEVENT
DTSTART;TZID=UTC:20220917T183000
DTEND;TZID=UTC:20220917T233000
DTSTAMP:20260421T234520
CREATED:20220908T180421Z
LAST-MODIFIED:20220908T180639Z
UID:2053-1663439400-1663457400@novinky.mma-bezmasky.cz
SUMMARY:Titan Fight Night 10
DESCRIPTION:Nabitá štartovka\, ktorá nenechá na pochybách o tom\, že pôjde o kvalitný športový zážitok žiadneho fanúšika bojových športov. Môžete sa tešiť na zápasy pod pravidlami MMA\, Boxu či K1. V akcii uvidíte známe mená ako Tomáš Zajac\, ktorý sa prebojoval do finálového zápasu Oktagon Výzvy 5\, kde na body podľahol Romanovi Paulusovi a teraz sa po pauze vracia do zápasového tempa. Predvedú sa Vám aj šampióni ako Tomáš Cigánik\, Marek Medovarski\, Andrej Šimkulič. Domáci borci ako Ján Jakubík\, pre ktorého to može byť posledný zápas kariéry a ty musiś byť pri tom. Maga Zurabov priletí z Írska do svojho mesta a nič iné ako víťazstvo neprichádza do úvahy. Nájde sa domácemu bombardérovi Michalovi Reptíkovi adekvátny súper? Dátum 17.9.2022 si zapíš do kalendára.
URL:https://novinky.mma-bezmasky.cz/event/titan-fight-night-10/
LOCATION:Mestská športová hala Partizánské\, Februárová 1082/11\, 958 01 Partizánske\, Slovensko\, Partizanske\, Slovensko
ATTACH;FMTTYPE=image/png:https://novinky.mma-bezmasky.cz/wp-content/uploads/2022/09/TFN_350x350-1.png
END:VEVENT
END:VCALENDAR